BEGIN:VCALENDAR
VERSION:2.0
PRODID:-//Rosalee&#039;s Pizzeria - ECPv6.15.13//NONSGML v1.0//EN
CALSCALE:GREGORIAN
METHOD:PUBLISH
X-WR-CALNAME:Rosalee&#039;s Pizzeria
X-ORIGINAL-URL:https://rosaleespizzeria.com
X-WR-CALDESC:Events for Rosalee&#039;s Pizzeria
REFRESH-INTERVAL;VALUE=DURATION:PT1H
X-Robots-Tag:noindex
X-PUBLISHED-TTL:PT1H
BEGIN:VTIMEZONE
TZID:UTC
BEGIN:STANDARD
TZOFFSETFROM:+0000
TZOFFSETTO:+0000
TZNAME:UTC
DTSTART:20250101T000000
END:STANDARD
END:VTIMEZONE
BEGIN:VEVENT
DTSTART;TZID=UTC:20260422T180000
DTEND;TZID=UTC:20260422T200000
DTSTAMP:20260420T010512
CREATED:20260129T225317Z
LAST-MODIFIED:20260129T225317Z
UID:2851-1776880800-1776888000@rosaleespizzeria.com
SUMMARY:John McKay
DESCRIPTION:Wednesday Night Square Dance \nJohn McKay – Home
URL:https://rosaleespizzeria.com/event/john-mckay-6/
END:VEVENT
BEGIN:VEVENT
DTSTART;TZID=UTC:20260429T180000
DTEND;TZID=UTC:20260429T200000
DTSTAMP:20260420T010512
CREATED:20260129T230104Z
LAST-MODIFIED:20260129T230104Z
UID:2853-1777485600-1777492800@rosaleespizzeria.com
SUMMARY:Taylor Sims
DESCRIPTION:Wednesday Night Square Dance \nFacebook Taylor Sims
URL:https://rosaleespizzeria.com/event/taylor-sims-2/
END:VEVENT
END:VCALENDAR