BEGIN:VCALENDAR
VERSION:2.0
PRODID:-//Rosalee&#039;s Pizzeria - ECPv6.15.13//NONSGML v1.0//EN
CALSCALE:GREGORIAN
METHOD:PUBLISH
X-ORIGINAL-URL:https://rosaleespizzeria.com
X-WR-CALDESC:Events for Rosalee&#039;s Pizzeria
REFRESH-INTERVAL;VALUE=DURATION:PT1H
X-Robots-Tag:noindex
X-PUBLISHED-TTL:PT1H
BEGIN:VTIMEZONE
TZID:UTC
BEGIN:STANDARD
TZOFFSETFROM:+0000
TZOFFSETTO:+0000
TZNAME:UTC
DTSTART:20220101T000000
END:STANDARD
END:VTIMEZONE
BEGIN:VEVENT
DTSTART;TZID=UTC:20230621T180000
DTEND;TZID=UTC:20230621T200000
DTSTAMP:20260424T034043
CREATED:20230614T214237Z
LAST-MODIFIED:20230614T214237Z
UID:2361-1687370400-1687377600@rosaleespizzeria.com
SUMMARY:The Lost Penny
DESCRIPTION:Wednesday Night Square Dance!!!!
URL:https://rosaleespizzeria.com/event/the-lost-penny/
LOCATION:Rosalee’s Pizzeria\, 461 Main St\, Longmont \, CO\, 80501\, United States
END:VEVENT
BEGIN:VEVENT
DTSTART;TZID=UTC:20230628T180000
DTEND;TZID=UTC:20230628T200000
DTSTAMP:20260424T034043
CREATED:20230614T214556Z
LAST-MODIFIED:20230614T214556Z
UID:2363-1687975200-1687982400@rosaleespizzeria.com
SUMMARY:Tenbucksixer
DESCRIPTION:Wednesday night Square Dance!!!
URL:https://rosaleespizzeria.com/event/tenbucksixer-3/
LOCATION:Rosalee’s Pizzeria\, 461 Main St\, Longmont \, CO\, 80501\, United States
END:VEVENT
END:VCALENDAR