BEGIN:VCALENDAR
VERSION:2.0
PRODID:-//Rosalee&#039;s Pizzeria - ECPv6.15.13//NONSGML v1.0//EN
CALSCALE:GREGORIAN
METHOD:PUBLISH
X-WR-CALNAME:Rosalee&#039;s Pizzeria
X-ORIGINAL-URL:https://rosaleespizzeria.com
X-WR-CALDESC:Events for Rosalee&#039;s Pizzeria
REFRESH-INTERVAL;VALUE=DURATION:PT1H
X-Robots-Tag:noindex
X-PUBLISHED-TTL:PT1H
BEGIN:VTIMEZONE
TZID:UTC
BEGIN:STANDARD
TZOFFSETFROM:+0000
TZOFFSETTO:+0000
TZNAME:UTC
DTSTART:20220101T000000
END:STANDARD
END:VTIMEZONE
BEGIN:VEVENT
DTSTART;VALUE=DATE:20230704
DTEND;VALUE=DATE:20230706
DTSTAMP:20260424T015550
CREATED:20230614T214710Z
LAST-MODIFIED:20230614T214914Z
UID:2365-1688428800-1688601599@rosaleespizzeria.com
SUMMARY:Closed For July 4th Holiday Times
DESCRIPTION:
URL:https://rosaleespizzeria.com/event/closed-for-july-4th-holiday-times/
LOCATION:Rosalee’s Pizzeria\, 461 Main St\, Longmont \, CO\, 80501\, United States
END:VEVENT
BEGIN:VEVENT
DTSTART;TZID=UTC:20230712T180000
DTEND;TZID=UTC:20230712T200000
DTSTAMP:20260424T015550
CREATED:20230614T220108Z
LAST-MODIFIED:20230614T223151Z
UID:2367-1689184800-1689192000@rosaleespizzeria.com
SUMMARY:Shawn Cunnane
DESCRIPTION:Wednesday Night Square Dance!!! \n 
URL:https://rosaleespizzeria.com/event/shawn-cunane/
LOCATION:Rosalee’s Pizzeria\, 461 Main St\, Longmont \, CO\, 80501\, United States
END:VEVENT
BEGIN:VEVENT
DTSTART;TZID=UTC:20230719T180000
DTEND;TZID=UTC:20230719T200000
DTSTAMP:20260424T015550
CREATED:20230614T220522Z
LAST-MODIFIED:20230614T223109Z
UID:2369-1689789600-1689796800@rosaleespizzeria.com
SUMMARY:High Lonesome
DESCRIPTION:Wednesday Night Square Dance
URL:https://rosaleespizzeria.com/event/high-lonesome/
LOCATION:Rosalee’s Pizzeria\, 461 Main St\, Longmont \, CO\, 80501\, United States
END:VEVENT
BEGIN:VEVENT
DTSTART;TZID=UTC:20230726T180000
DTEND;TZID=UTC:20230726T200000
DTSTAMP:20260424T015550
CREATED:20230614T220646Z
LAST-MODIFIED:20230614T220646Z
UID:2371-1690394400-1690401600@rosaleespizzeria.com
SUMMARY:Grateful Dawg Sessions
DESCRIPTION:Wednesday Night Square Dance!!!
URL:https://rosaleespizzeria.com/event/grateful-dawg-sessions-2/
LOCATION:Rosalee’s Pizzeria\, 461 Main St\, Longmont \, CO\, 80501\, United States
END:VEVENT
END:VCALENDAR