BEGIN:VCALENDAR
VERSION:2.0
PRODID:-//Rosalee&#039;s Pizzeria - ECPv6.15.13//NONSGML v1.0//EN
CALSCALE:GREGORIAN
METHOD:PUBLISH
X-WR-CALNAME:Rosalee&#039;s Pizzeria
X-ORIGINAL-URL:https://rosaleespizzeria.com
X-WR-CALDESC:Events for Rosalee&#039;s Pizzeria
REFRESH-INTERVAL;VALUE=DURATION:PT1H
X-Robots-Tag:noindex
X-PUBLISHED-TTL:PT1H
BEGIN:VTIMEZONE
TZID:UTC
BEGIN:STANDARD
TZOFFSETFROM:+0000
TZOFFSETTO:+0000
TZNAME:UTC
DTSTART:20220101T000000
END:STANDARD
END:VTIMEZONE
BEGIN:VEVENT
DTSTART;TZID=UTC:20231206T180000
DTEND;TZID=UTC:20231206T200000
DTSTAMP:20260423T170846
CREATED:20231128T214628Z
LAST-MODIFIED:20231129T224658Z
UID:2412-1701885600-1701892800@rosaleespizzeria.com
SUMMARY:Ain't From Here
DESCRIPTION:https://www.youtube.com/@AintFromHere
URL:https://rosaleespizzeria.com/event/aintfromhere/
LOCATION:Rosalee’s Pizzeria\, 461 Main St\, Longmont \, CO\, 80501\, United States
END:VEVENT
BEGIN:VEVENT
DTSTART;TZID=UTC:20231213T180000
DTEND;TZID=UTC:20231213T200000
DTSTAMP:20260423T170846
CREATED:20231129T194538Z
LAST-MODIFIED:20231129T194538Z
UID:2445-1702490400-1702497600@rosaleespizzeria.com
SUMMARY:High Lonesome
DESCRIPTION:
URL:https://rosaleespizzeria.com/event/high-lonesome-2/
LOCATION:Rosalee’s Pizzeria\, 461 Main St\, Longmont \, CO\, 80501\, United States
CATEGORIES:Live Music
END:VEVENT
BEGIN:VEVENT
DTSTART;TZID=UTC:20231220T180000
DTEND;TZID=UTC:20231220T200000
DTSTAMP:20260423T170846
CREATED:20231129T195035Z
LAST-MODIFIED:20231129T195035Z
UID:2448-1703095200-1703102400@rosaleespizzeria.com
SUMMARY:Fast Floyd
DESCRIPTION:https://www.facebook.com/fastfloydjazzgrass/
URL:https://rosaleespizzeria.com/event/fast-floyd/
LOCATION:Rosalee’s Pizzeria\, 461 Main St\, Longmont \, CO\, 80501\, United States
END:VEVENT
BEGIN:VEVENT
DTSTART;VALUE=DATE:20231226
DTEND;VALUE=DATE:20240105
DTSTAMP:20260423T170846
CREATED:20231101T175917Z
LAST-MODIFIED:20231101T175917Z
UID:2387-1703548800-1704412799@rosaleespizzeria.com
SUMMARY:Closed For Pie Shop Family Vacation
DESCRIPTION:Closed for the holidays!!! \nTake time to enjoy\, wishing you a great holiday and time to rest and relax. \nLove from the pie shop!!!
URL:https://rosaleespizzeria.com/event/closed-for-pie-shop-family-vacation/
END:VEVENT
END:VCALENDAR