BEGIN:VCALENDAR
VERSION:2.0
PRODID:-//Rosalee&#039;s Pizzeria - ECPv6.15.13//NONSGML v1.0//EN
CALSCALE:GREGORIAN
METHOD:PUBLISH
X-ORIGINAL-URL:https://rosaleespizzeria.com
X-WR-CALDESC:Events for Rosalee&#039;s Pizzeria
REFRESH-INTERVAL;VALUE=DURATION:PT1H
X-Robots-Tag:noindex
X-PUBLISHED-TTL:PT1H
BEGIN:VTIMEZONE
TZID:UTC
BEGIN:STANDARD
TZOFFSETFROM:+0000
TZOFFSETTO:+0000
TZNAME:UTC
DTSTART:20230101T000000
END:STANDARD
END:VTIMEZONE
BEGIN:VEVENT
DTSTART;TZID=UTC:20240703T180000
DTEND;TZID=UTC:20240703T200000
DTSTAMP:20260423T045622
CREATED:20240529T214645Z
LAST-MODIFIED:20240529T214645Z
UID:2532-1720029600-1720036800@rosaleespizzeria.com
SUMMARY:Concrete Feedback
DESCRIPTION:https://www.facebook.com/p/Concrete-Feedback-100068507271439/
URL:https://rosaleespizzeria.com/event/concrete-feedback/
END:VEVENT
BEGIN:VEVENT
DTSTART;TZID=UTC:20240710T180000
DTEND;TZID=UTC:20240710T200000
DTSTAMP:20260423T045622
CREATED:20240529T215004Z
LAST-MODIFIED:20240529T215004Z
UID:2535-1720634400-1720641600@rosaleespizzeria.com
SUMMARY:Tenbuck Sixer
DESCRIPTION:https://www.tenbucksixer.com/songs/
URL:https://rosaleespizzeria.com/event/tenbuck-sixer/
END:VEVENT
BEGIN:VEVENT
DTSTART;TZID=UTC:20240717T180000
DTEND;TZID=UTC:20240717T200000
DTSTAMP:20260423T045622
CREATED:20240529T215304Z
LAST-MODIFIED:20240529T215304Z
UID:2537-1721239200-1721246400@rosaleespizzeria.com
SUMMARY:Mad Dog Blues
DESCRIPTION:https://coloradocountryblues.com/mdb_shows.htm
URL:https://rosaleespizzeria.com/event/mad-dog-blues-2/
END:VEVENT
BEGIN:VEVENT
DTSTART;TZID=UTC:20240724T180000
DTEND;TZID=UTC:20240724T200000
DTSTAMP:20260423T045622
CREATED:20240529T215700Z
LAST-MODIFIED:20240529T215700Z
UID:2539-1721844000-1721851200@rosaleespizzeria.com
SUMMARY:The Jet Set Trio
DESCRIPTION:http://www.msamyandthejetset.com/
URL:https://rosaleespizzeria.com/event/the-jet-set-trio/
END:VEVENT
BEGIN:VEVENT
DTSTART;TZID=UTC:20240731T180000
DTEND;TZID=UTC:20240731T200000
DTSTAMP:20260423T045622
CREATED:20240711T171548Z
LAST-MODIFIED:20240711T171739Z
UID:2565-1722448800-1722456000@rosaleespizzeria.com
SUMMARY:Responders Oldies Band
DESCRIPTION:https://www.facebook.com/people/The-Responders/100063840560812/
URL:https://rosaleespizzeria.com/event/responders-oldies-band/
END:VEVENT
END:VCALENDAR