BEGIN:VCALENDAR
VERSION:2.0
PRODID:-//Rosalee&#039;s Pizzeria - ECPv6.15.13//NONSGML v1.0//EN
CALSCALE:GREGORIAN
METHOD:PUBLISH
X-ORIGINAL-URL:https://rosaleespizzeria.com
X-WR-CALDESC:Events for Rosalee&#039;s Pizzeria
REFRESH-INTERVAL;VALUE=DURATION:PT1H
X-Robots-Tag:noindex
X-PUBLISHED-TTL:PT1H
BEGIN:VTIMEZONE
TZID:UTC
BEGIN:STANDARD
TZOFFSETFROM:+0000
TZOFFSETTO:+0000
TZNAME:UTC
DTSTART:20230101T000000
END:STANDARD
END:VTIMEZONE
BEGIN:VEVENT
DTSTART;TZID=UTC:20240807T180000
DTEND;TZID=UTC:20240807T200000
DTSTAMP:20260423T030809
CREATED:20240711T172401Z
LAST-MODIFIED:20240711T172401Z
UID:2568-1723053600-1723060800@rosaleespizzeria.com
SUMMARY:Elijah Donovan Band
DESCRIPTION:
URL:https://rosaleespizzeria.com/event/elijah-donovan-band/
END:VEVENT
BEGIN:VEVENT
DTSTART;TZID=UTC:20240814T180000
DTEND;TZID=UTC:20240814T200000
DTSTAMP:20260423T030809
CREATED:20240711T173349Z
LAST-MODIFIED:20240711T173349Z
UID:2572-1723658400-1723665600@rosaleespizzeria.com
SUMMARY:Black Dog
DESCRIPTION:
URL:https://rosaleespizzeria.com/event/black-dog-2/
END:VEVENT
BEGIN:VEVENT
DTSTART;TZID=UTC:20240821T180000
DTEND;TZID=UTC:20240821T200000
DTSTAMP:20260423T030809
CREATED:20240711T173612Z
LAST-MODIFIED:20240711T173612Z
UID:2574-1724263200-1724270400@rosaleespizzeria.com
SUMMARY:The Lost Penny
DESCRIPTION:https://www.lostpennyband.com/
URL:https://rosaleespizzeria.com/event/the-lost-penny-2/
END:VEVENT
BEGIN:VEVENT
DTSTART;TZID=UTC:20240828T180000
DTEND;TZID=UTC:20240828T200000
DTSTAMP:20260423T030809
CREATED:20240711T173929Z
LAST-MODIFIED:20240711T173929Z
UID:2576-1724868000-1724875200@rosaleespizzeria.com
SUMMARY:Andy Eppler
DESCRIPTION:
URL:https://rosaleespizzeria.com/event/andy-eppler-3/
END:VEVENT
END:VCALENDAR