BEGIN:VCALENDAR
VERSION:2.0
PRODID:-//Rosalee&#039;s Pizzeria - ECPv6.15.13//NONSGML v1.0//EN
CALSCALE:GREGORIAN
METHOD:PUBLISH
X-ORIGINAL-URL:https://rosaleespizzeria.com
X-WR-CALDESC:Events for Rosalee&#039;s Pizzeria
REFRESH-INTERVAL;VALUE=DURATION:PT1H
X-Robots-Tag:noindex
X-PUBLISHED-TTL:PT1H
BEGIN:VTIMEZONE
TZID:UTC
BEGIN:STANDARD
TZOFFSETFROM:+0000
TZOFFSETTO:+0000
TZNAME:UTC
DTSTART:20230101T000000
END:STANDARD
END:VTIMEZONE
BEGIN:VEVENT
DTSTART;TZID=UTC:20240904T180000
DTEND;TZID=UTC:20240904T200000
DTSTAMP:20260423T011240
CREATED:20240711T174253Z
LAST-MODIFIED:20240711T174253Z
UID:2578-1725472800-1725480000@rosaleespizzeria.com
SUMMARY:High Lonesome
DESCRIPTION:https://highlonesomenewgrass.com/
URL:https://rosaleespizzeria.com/event/high-lonesome-3/
END:VEVENT
BEGIN:VEVENT
DTSTART;TZID=UTC:20240911T180000
DTEND;TZID=UTC:20240911T200000
DTSTAMP:20260423T011240
CREATED:20240711T174548Z
LAST-MODIFIED:20240711T174548Z
UID:2580-1726077600-1726084800@rosaleespizzeria.com
SUMMARY:Shawn Cunnane
DESCRIPTION:https://shawncunnane.com/home
URL:https://rosaleespizzeria.com/event/shawn-cunnane-2/
END:VEVENT
BEGIN:VEVENT
DTSTART;TZID=UTC:20240918T180000
DTEND;TZID=UTC:20240918T200000
DTSTAMP:20260423T011240
CREATED:20240711T174825Z
LAST-MODIFIED:20240711T174825Z
UID:2582-1726682400-1726689600@rosaleespizzeria.com
SUMMARY:d'Lovelies
DESCRIPTION:https://www.dlovelies.com/
URL:https://rosaleespizzeria.com/event/dlovelies/
END:VEVENT
BEGIN:VEVENT
DTSTART;TZID=UTC:20240925T180000
DTEND;TZID=UTC:20240925T200000
DTSTAMP:20260423T011240
CREATED:20240712T195634Z
LAST-MODIFIED:20240712T195634Z
UID:2584-1727287200-1727294400@rosaleespizzeria.com
SUMMARY:Parchment Doll
DESCRIPTION:https://www.parchment-doll.band/
URL:https://rosaleespizzeria.com/event/parchment-doll/
END:VEVENT
END:VCALENDAR