BEGIN:VCALENDAR
VERSION:2.0
PRODID:-//Rosalee&#039;s Pizzeria - ECPv6.15.13//NONSGML v1.0//EN
CALSCALE:GREGORIAN
METHOD:PUBLISH
X-ORIGINAL-URL:https://rosaleespizzeria.com
X-WR-CALDESC:Events for Rosalee&#039;s Pizzeria
REFRESH-INTERVAL;VALUE=DURATION:PT1H
X-Robots-Tag:noindex
X-PUBLISHED-TTL:PT1H
BEGIN:VTIMEZONE
TZID:UTC
BEGIN:STANDARD
TZOFFSETFROM:+0000
TZOFFSETTO:+0000
TZNAME:UTC
DTSTART:20230101T000000
END:STANDARD
END:VTIMEZONE
BEGIN:VEVENT
DTSTART;TZID=UTC:20241106T180000
DTEND;TZID=UTC:20241106T200000
DTSTAMP:20260422T214327
CREATED:20240924T210133Z
LAST-MODIFIED:20240924T210133Z
UID:2599-1730916000-1730923200@rosaleespizzeria.com
SUMMARY:Slice Slice Baby (feat. Adam Bodine and Jens Davis)
DESCRIPTION:
URL:https://rosaleespizzeria.com/event/slice-slice-baby-feat-adam-bodine-and-jens-davis/
END:VEVENT
BEGIN:VEVENT
DTSTART;TZID=UTC:20241109T140000
DTEND;TZID=UTC:20241109T183000
DTSTAMP:20260422T214327
CREATED:20241023T212420Z
LAST-MODIFIED:20241023T212420Z
UID:2616-1731160800-1731177000@rosaleespizzeria.com
SUMMARY:Rosalee's 10 Year Anniversary w/Desert Furs and Cat Jerky
DESCRIPTION:https://thedesertfurs.com/home \n  \nhttps://www.facebook.com/p/Cat-Jerky-100027689845895/
URL:https://rosaleespizzeria.com/event/rosalees-10-year-anniversary-w-desert-furs-and-cat-jerky/
END:VEVENT
BEGIN:VEVENT
DTSTART;TZID=UTC:20241113T180000
DTEND;TZID=UTC:20241113T200000
DTSTAMP:20260422T214327
CREATED:20240924T210445Z
LAST-MODIFIED:20240924T210445Z
UID:2601-1731520800-1731528000@rosaleespizzeria.com
SUMMARY:Magnum Music Project
DESCRIPTION:https://www.facebook.com/p/Magnum-Mike-Music-100078333842272/?_rdr
URL:https://rosaleespizzeria.com/event/magnum-music-project/
END:VEVENT
BEGIN:VEVENT
DTSTART;TZID=UTC:20241120T180000
DTEND;TZID=UTC:20241120T200000
DTSTAMP:20260422T214327
CREATED:20240924T210807Z
LAST-MODIFIED:20240924T210807Z
UID:2603-1732125600-1732132800@rosaleespizzeria.com
SUMMARY:Al Herrera
DESCRIPTION:
URL:https://rosaleespizzeria.com/event/al-herrera/
END:VEVENT
BEGIN:VEVENT
DTSTART;TZID=UTC:20241127T180000
DTEND;TZID=UTC:20241127T200000
DTSTAMP:20260422T214327
CREATED:20240924T211211Z
LAST-MODIFIED:20240924T211211Z
UID:2605-1732730400-1732737600@rosaleespizzeria.com
SUMMARY:Vudu Sunshine
DESCRIPTION:Home
URL:https://rosaleespizzeria.com/event/vudu-sunshine/
END:VEVENT
BEGIN:VEVENT
DTSTART;VALUE=DATE:20241128
DTEND;VALUE=DATE:20241129
DTSTAMP:20260422T214327
CREATED:20241126T231327Z
LAST-MODIFIED:20241126T231327Z
UID:2621-1732752000-1732838399@rosaleespizzeria.com
SUMMARY:Closed for Thanksgiving!!!
DESCRIPTION:
URL:https://rosaleespizzeria.com/event/closed-for-thanksgiving-5/
LOCATION:Rosalee’s Pizzeria\, 461 Main St\, Longmont \, CO\, 80501\, United States
END:VEVENT
END:VCALENDAR