BEGIN:VCALENDAR
VERSION:2.0
PRODID:-//Rosalee&#039;s Pizzeria - ECPv6.15.13//NONSGML v1.0//EN
CALSCALE:GREGORIAN
METHOD:PUBLISH
X-ORIGINAL-URL:https://rosaleespizzeria.com
X-WR-CALDESC:Events for Rosalee&#039;s Pizzeria
REFRESH-INTERVAL;VALUE=DURATION:PT1H
X-Robots-Tag:noindex
X-PUBLISHED-TTL:PT1H
BEGIN:VTIMEZONE
TZID:UTC
BEGIN:STANDARD
TZOFFSETFROM:+0000
TZOFFSETTO:+0000
TZNAME:UTC
DTSTART:20230101T000000
END:STANDARD
END:VTIMEZONE
BEGIN:VEVENT
DTSTART;TZID=UTC:20241204T180000
DTEND;TZID=UTC:20241204T200000
DTSTAMP:20260422T200335
CREATED:20240924T213353Z
LAST-MODIFIED:20240924T213353Z
UID:2607-1733335200-1733342400@rosaleespizzeria.com
SUMMARY:Carrie and Drew
DESCRIPTION:
URL:https://rosaleespizzeria.com/event/carrie-and-drew/
END:VEVENT
BEGIN:VEVENT
DTSTART;TZID=UTC:20241211T180000
DTEND;TZID=UTC:20241211T200000
DTSTAMP:20260422T200335
CREATED:20240924T213534Z
LAST-MODIFIED:20240924T213534Z
UID:2609-1733940000-1733947200@rosaleespizzeria.com
SUMMARY:Strange Byrds
DESCRIPTION:https://www.strangebyrds.com/
URL:https://rosaleespizzeria.com/event/strange-byrds/
END:VEVENT
BEGIN:VEVENT
DTSTART;TZID=UTC:20241218T180000
DTEND;TZID=UTC:20241218T200000
DTSTAMP:20260422T200335
CREATED:20241023T211624Z
LAST-MODIFIED:20241023T211624Z
UID:2614-1734544800-1734552000@rosaleespizzeria.com
SUMMARY:Tenbucksixer
DESCRIPTION:https://www.tenbucksixer.com/
URL:https://rosaleespizzeria.com/event/tenbucksixer-4/
END:VEVENT
BEGIN:VEVENT
DTSTART;VALUE=DATE:20241224
DTEND;VALUE=DATE:20250104
DTSTAMP:20260422T200335
CREATED:20241213T232613Z
LAST-MODIFIED:20241213T232936Z
UID:2627-1734998400-1735948799@rosaleespizzeria.com
SUMMARY:Closed for Annual Pie Shop Vacation!!!
DESCRIPTION:
URL:https://rosaleespizzeria.com/event/closed-for-annual-pie-shop-vacation/
END:VEVENT
END:VCALENDAR