BEGIN:VCALENDAR
VERSION:2.0
PRODID:-//Rosalee&#039;s Pizzeria - ECPv6.15.13//NONSGML v1.0//EN
CALSCALE:GREGORIAN
METHOD:PUBLISH
X-ORIGINAL-URL:https://rosaleespizzeria.com
X-WR-CALDESC:Events for Rosalee&#039;s Pizzeria
REFRESH-INTERVAL;VALUE=DURATION:PT1H
X-Robots-Tag:noindex
X-PUBLISHED-TTL:PT1H
BEGIN:VTIMEZONE
TZID:UTC
BEGIN:STANDARD
TZOFFSETFROM:+0000
TZOFFSETTO:+0000
TZNAME:UTC
DTSTART:20230101T000000
END:STANDARD
END:VTIMEZONE
BEGIN:VEVENT
DTSTART;VALUE=DATE:20241224
DTEND;VALUE=DATE:20250104
DTSTAMP:20260422T141610
CREATED:20241213T232613Z
LAST-MODIFIED:20241213T232936Z
UID:2627-1734998400-1735948799@rosaleespizzeria.com
SUMMARY:Closed for Annual Pie Shop Vacation!!!
DESCRIPTION:
URL:https://rosaleespizzeria.com/event/closed-for-annual-pie-shop-vacation/
END:VEVENT
BEGIN:VEVENT
DTSTART;TZID=UTC:20250108T180000
DTEND;TZID=UTC:20250108T200000
DTSTAMP:20260422T141610
CREATED:20241212T233509Z
LAST-MODIFIED:20241212T233509Z
UID:2624-1736359200-1736366400@rosaleespizzeria.com
SUMMARY:High Road Home
DESCRIPTION:
URL:https://rosaleespizzeria.com/event/high-road-home-2/
END:VEVENT
BEGIN:VEVENT
DTSTART;TZID=UTC:20250115T180000
DTEND;TZID=UTC:20250115T200000
DTSTAMP:20260422T141610
CREATED:20241217T233025Z
LAST-MODIFIED:20241217T233025Z
UID:2631-1736964000-1736971200@rosaleespizzeria.com
SUMMARY:Tom Pakele and Stevie Guitar
DESCRIPTION:Tom Pakele and Stevie Guitar Glotzer are a fantastic blues duo. They’re known for their soulful harmonica and guitar renditions of classic blues hits from legendary artists like Howling Wolf\, Junior Wells\, and Sonny Boy Williamson\, as well as their own original music. Their music is a must-experience for any blues enthusiast. With Tom’s captivating vocals and Stevie’s masterful guitar work\, they bring the timeless sounds of the blues to life in a way that’s both authentic and fresh.
URL:https://rosaleespizzeria.com/event/tom-pakele-and-stevie-guitar/
END:VEVENT
BEGIN:VEVENT
DTSTART;TZID=UTC:20250122T180000
DTEND;TZID=UTC:20250122T200000
DTSTAMP:20260422T141610
CREATED:20241217T233336Z
LAST-MODIFIED:20241217T233336Z
UID:2633-1737568800-1737576000@rosaleespizzeria.com
SUMMARY:Kober and Sitero
DESCRIPTION:
URL:https://rosaleespizzeria.com/event/kober-and-sitero/
END:VEVENT
BEGIN:VEVENT
DTSTART;TZID=UTC:20250129T180000
DTEND;TZID=UTC:20250129T200000
DTSTAMP:20260422T141610
CREATED:20241217T233553Z
LAST-MODIFIED:20241217T233553Z
UID:2635-1738173600-1738180800@rosaleespizzeria.com
SUMMARY:4 Tell Music
DESCRIPTION:https://www.facebook.com/4Tellmusic/
URL:https://rosaleespizzeria.com/event/4-tell-music/
END:VEVENT
END:VCALENDAR