BEGIN:VCALENDAR
VERSION:2.0
PRODID:-//Rosalee&#039;s Pizzeria - ECPv6.15.13//NONSGML v1.0//EN
CALSCALE:GREGORIAN
METHOD:PUBLISH
X-WR-CALNAME:Rosalee&#039;s Pizzeria
X-ORIGINAL-URL:https://rosaleespizzeria.com
X-WR-CALDESC:Events for Rosalee&#039;s Pizzeria
REFRESH-INTERVAL;VALUE=DURATION:PT1H
X-Robots-Tag:noindex
X-PUBLISHED-TTL:PT1H
BEGIN:VTIMEZONE
TZID:UTC
BEGIN:STANDARD
TZOFFSETFROM:+0000
TZOFFSETTO:+0000
TZNAME:UTC
DTSTART:20240101T000000
END:STANDARD
END:VTIMEZONE
BEGIN:VEVENT
DTSTART;TZID=UTC:20250205T180000
DTEND;TZID=UTC:20250205T200000
DTSTAMP:20260422T121758
CREATED:20241217T233822Z
LAST-MODIFIED:20241217T233822Z
UID:2637-1738778400-1738785600@rosaleespizzeria.com
SUMMARY:Danny Shafer
DESCRIPTION:
URL:https://rosaleespizzeria.com/event/danny-shafer-6/
END:VEVENT
BEGIN:VEVENT
DTSTART;TZID=UTC:20250212T180000
DTEND;TZID=UTC:20250212T200000
DTSTAMP:20260422T121758
CREATED:20241217T234223Z
LAST-MODIFIED:20241217T234223Z
UID:2639-1739383200-1739390400@rosaleespizzeria.com
SUMMARY:CBD's
DESCRIPTION:http://www.thecbds.com/
URL:https://rosaleespizzeria.com/event/cbds/
END:VEVENT
BEGIN:VEVENT
DTSTART;TZID=UTC:20250219T180000
DTEND;TZID=UTC:20250219T200000
DTSTAMP:20260422T121758
CREATED:20241217T234432Z
LAST-MODIFIED:20241217T234432Z
UID:2641-1739988000-1739995200@rosaleespizzeria.com
SUMMARY:Foggy Top Blue Grass Band
DESCRIPTION:http://foggytops.com/
URL:https://rosaleespizzeria.com/event/foggy-top-blue-grass-band/
END:VEVENT
BEGIN:VEVENT
DTSTART;TZID=UTC:20250226T180000
DTEND;TZID=UTC:20250226T200000
DTSTAMP:20260422T121758
CREATED:20241218T213629Z
LAST-MODIFIED:20241218T213927Z
UID:2644-1740592800-1740600000@rosaleespizzeria.com
SUMMARY:Jay Roemer Band
DESCRIPTION:http://www.jayroemer.com/ \nhttp://www.jayroemer.com/about-jay/ \nhttp://www.jayroemer.com/
URL:https://rosaleespizzeria.com/event/jay-roemer-band/
END:VEVENT
END:VCALENDAR