BEGIN:VCALENDAR
VERSION:2.0
PRODID:-//Rosalee&#039;s Pizzeria - ECPv6.15.13//NONSGML v1.0//EN
CALSCALE:GREGORIAN
METHOD:PUBLISH
X-ORIGINAL-URL:https://rosaleespizzeria.com
X-WR-CALDESC:Events for Rosalee&#039;s Pizzeria
REFRESH-INTERVAL;VALUE=DURATION:PT1H
X-Robots-Tag:noindex
X-PUBLISHED-TTL:PT1H
BEGIN:VTIMEZONE
TZID:UTC
BEGIN:STANDARD
TZOFFSETFROM:+0000
TZOFFSETTO:+0000
TZNAME:UTC
DTSTART:20240101T000000
END:STANDARD
END:VTIMEZONE
BEGIN:VEVENT
DTSTART;TZID=UTC:20250402T180000
DTEND;TZID=UTC:20250402T200000
DTSTAMP:20260422T090116
CREATED:20250219T215140Z
LAST-MODIFIED:20250219T215140Z
UID:2670-1743616800-1743624000@rosaleespizzeria.com
SUMMARY:Jay Stott
DESCRIPTION:https://jaystottmusic.com/
URL:https://rosaleespizzeria.com/event/jay-stott-4/
END:VEVENT
BEGIN:VEVENT
DTSTART;TZID=UTC:20250409T180000
DTEND;TZID=UTC:20250409T200000
DTSTAMP:20260422T090116
CREATED:20250219T215523Z
LAST-MODIFIED:20250219T215523Z
UID:2672-1744221600-1744228800@rosaleespizzeria.com
SUMMARY:Grey Rails
DESCRIPTION:https://www.greyrails.com/
URL:https://rosaleespizzeria.com/event/grey-rails/
END:VEVENT
BEGIN:VEVENT
DTSTART;TZID=UTC:20250416T180000
DTEND;TZID=UTC:20250416T200000
DTSTAMP:20260422T090116
CREATED:20250219T215724Z
LAST-MODIFIED:20250219T215724Z
UID:2674-1744826400-1744833600@rosaleespizzeria.com
SUMMARY:Bryan Dubrow
DESCRIPTION:https://bryandubrow.com/
URL:https://rosaleespizzeria.com/event/bryan-dubrow/
END:VEVENT
BEGIN:VEVENT
DTSTART;TZID=UTC:20250423T180000
DTEND;TZID=UTC:20250423T200000
DTSTAMP:20260422T090116
CREATED:20250219T220055Z
LAST-MODIFIED:20250219T220055Z
UID:2677-1745431200-1745438400@rosaleespizzeria.com
SUMMARY:Ryan Hutchens
DESCRIPTION:https://www.hutchensmusic.com/
URL:https://rosaleespizzeria.com/event/ryan-hutchens/
END:VEVENT
BEGIN:VEVENT
DTSTART;TZID=UTC:20250430T180000
DTEND;TZID=UTC:20250430T200000
DTSTAMP:20260422T090116
CREATED:20250219T220403Z
LAST-MODIFIED:20250219T220403Z
UID:2679-1746036000-1746043200@rosaleespizzeria.com
SUMMARY:Sapphire's Garden
DESCRIPTION:https://sapphiresgarden.bandcamp.com/album/sold-my-soul-to-the-devil
URL:https://rosaleespizzeria.com/event/sapphires-garden/
END:VEVENT
END:VCALENDAR