BEGIN:VCALENDAR
VERSION:2.0
PRODID:-//Rosalee&#039;s Pizzeria - ECPv6.15.13//NONSGML v1.0//EN
CALSCALE:GREGORIAN
METHOD:PUBLISH
X-ORIGINAL-URL:https://rosaleespizzeria.com
X-WR-CALDESC:Events for Rosalee&#039;s Pizzeria
REFRESH-INTERVAL;VALUE=DURATION:PT1H
X-Robots-Tag:noindex
X-PUBLISHED-TTL:PT1H
BEGIN:VTIMEZONE
TZID:UTC
BEGIN:STANDARD
TZOFFSETFROM:+0000
TZOFFSETTO:+0000
TZNAME:UTC
DTSTART:20240101T000000
END:STANDARD
END:VTIMEZONE
BEGIN:VEVENT
DTSTART;TZID=UTC:20250806T180000
DTEND;TZID=UTC:20250806T200000
DTSTAMP:20260422T014549
CREATED:20250522T211604Z
LAST-MODIFIED:20250522T211604Z
UID:2748-1754503200-1754510400@rosaleespizzeria.com
SUMMARY:Poorfree
DESCRIPTION:https://www.instagram.com/poorfreemusic/
URL:https://rosaleespizzeria.com/event/poorfree/
END:VEVENT
BEGIN:VEVENT
DTSTART;TZID=UTC:20250813T180000
DTEND;TZID=UTC:20250813T200000
DTSTAMP:20260422T014549
CREATED:20250522T211847Z
LAST-MODIFIED:20250522T211847Z
UID:2750-1755108000-1755115200@rosaleespizzeria.com
SUMMARY:Jenn Cleary
DESCRIPTION:https://jenncleary.com/
URL:https://rosaleespizzeria.com/event/jenn-cleary/
END:VEVENT
BEGIN:VEVENT
DTSTART;TZID=UTC:20250820T180000
DTEND;TZID=UTC:20250820T200000
DTSTAMP:20260422T014549
CREATED:20250522T212146Z
LAST-MODIFIED:20250522T212146Z
UID:2752-1755712800-1755720000@rosaleespizzeria.com
SUMMARY:Man of 1\,000 Songs
DESCRIPTION:https://www.manof1000songs.com/
URL:https://rosaleespizzeria.com/event/man-of-1000-songs-2/
END:VEVENT
BEGIN:VEVENT
DTSTART;TZID=UTC:20250827T180000
DTEND;TZID=UTC:20250827T200000
DTSTAMP:20260422T014549
CREATED:20250522T214539Z
LAST-MODIFIED:20250522T214539Z
UID:2754-1756317600-1756324800@rosaleespizzeria.com
SUMMARY:Luke Hahn-Zollo & Friends
DESCRIPTION:https://www.instagram.com/lukehahnzollo/
URL:https://rosaleespizzeria.com/event/luke-hahn-zollo-friends/
END:VEVENT
END:VCALENDAR