BEGIN:VCALENDAR
VERSION:2.0
PRODID:-//Rosalee&#039;s Pizzeria - ECPv6.15.13//NONSGML v1.0//EN
CALSCALE:GREGORIAN
METHOD:PUBLISH
X-WR-CALNAME:Rosalee&#039;s Pizzeria
X-ORIGINAL-URL:https://rosaleespizzeria.com
X-WR-CALDESC:Events for Rosalee&#039;s Pizzeria
REFRESH-INTERVAL;VALUE=DURATION:PT1H
X-Robots-Tag:noindex
X-PUBLISHED-TTL:PT1H
BEGIN:VTIMEZONE
TZID:UTC
BEGIN:STANDARD
TZOFFSETFROM:+0000
TZOFFSETTO:+0000
TZNAME:UTC
DTSTART:20240101T000000
END:STANDARD
END:VTIMEZONE
BEGIN:VEVENT
DTSTART;TZID=UTC:20251105T180000
DTEND;TZID=UTC:20251105T200000
DTSTAMP:20260421T204311
CREATED:20250819T213826Z
LAST-MODIFIED:20250819T213826Z
UID:2779-1762365600-1762372800@rosaleespizzeria.com
SUMMARY:Vagabonds
DESCRIPTION:www.vagabondsfoco.com
URL:https://rosaleespizzeria.com/event/vagabonds/
END:VEVENT
BEGIN:VEVENT
DTSTART;TZID=UTC:20251112T180000
DTEND;TZID=UTC:20251112T200000
DTSTAMP:20260421T204311
CREATED:20250819T215017Z
LAST-MODIFIED:20250819T215017Z
UID:2781-1762970400-1762977600@rosaleespizzeria.com
SUMMARY:Davy Allard
DESCRIPTION:https://davyallard.com/
URL:https://rosaleespizzeria.com/event/davy-allard-6/
END:VEVENT
BEGIN:VEVENT
DTSTART;TZID=UTC:20251119T180000
DTEND;TZID=UTC:20251119T200000
DTSTAMP:20260421T204311
CREATED:20250819T215335Z
LAST-MODIFIED:20250819T215335Z
UID:2785-1763575200-1763582400@rosaleespizzeria.com
SUMMARY:Parchment Doll Band
DESCRIPTION:https://www.parchment-doll.band/
URL:https://rosaleespizzeria.com/event/parchment-doll-band/
END:VEVENT
BEGIN:VEVENT
DTSTART;TZID=UTC:20251126T180000
DTEND;TZID=UTC:20251126T200000
DTSTAMP:20260421T204311
CREATED:20250819T215621Z
LAST-MODIFIED:20250819T215621Z
UID:2787-1764180000-1764187200@rosaleespizzeria.com
SUMMARY:David Lawrence and the Spoonful
DESCRIPTION:https://davidlawspoonful.com/
URL:https://rosaleespizzeria.com/event/david-lawrence-and-the-spoonful-3/
END:VEVENT
END:VCALENDAR