BEGIN:VCALENDAR
VERSION:2.0
PRODID:-//Rosalee&#039;s Pizzeria - ECPv6.15.13//NONSGML v1.0//EN
CALSCALE:GREGORIAN
METHOD:PUBLISH
X-ORIGINAL-URL:https://rosaleespizzeria.com
X-WR-CALDESC:Events for Rosalee&#039;s Pizzeria
REFRESH-INTERVAL;VALUE=DURATION:PT1H
X-Robots-Tag:noindex
X-PUBLISHED-TTL:PT1H
BEGIN:VTIMEZONE
TZID:UTC
BEGIN:STANDARD
TZOFFSETFROM:+0000
TZOFFSETTO:+0000
TZNAME:UTC
DTSTART:20240101T000000
END:STANDARD
END:VTIMEZONE
BEGIN:VEVENT
DTSTART;VALUE=DATE:20251224
DTEND;VALUE=DATE:20260106
DTSTAMP:20260421T165930
CREATED:20251003T204132Z
LAST-MODIFIED:20251003T204132Z
UID:2800-1766534400-1767657599@rosaleespizzeria.com
SUMMARY:Closed For Family Holiday Vacation
DESCRIPTION:
URL:https://rosaleespizzeria.com/event/closed-for-family-holiday-vacation-4/
LOCATION:Rosalee’s Pizzeria\, 461 Main St\, Longmont \, CO\, 80501\, United States
END:VEVENT
BEGIN:VEVENT
DTSTART;TZID=UTC:20260107T180000
DTEND;TZID=UTC:20260107T200000
DTSTAMP:20260421T165930
CREATED:20260101T195847Z
LAST-MODIFIED:20260101T195941Z
UID:2808-1767808800-1767816000@rosaleespizzeria.com
SUMMARY:Strangebyrds
DESCRIPTION:Wednesday Night Square Dance \nhttps://www.strangebyrds.com/
URL:https://rosaleespizzeria.com/event/strangebyrds-7/
LOCATION:Rosalee’s Pizzeria\, 461 Main St\, Longmont \, CO\, 80501\, United States
END:VEVENT
BEGIN:VEVENT
DTSTART;TZID=UTC:20260114T180000
DTEND;TZID=UTC:20260114T200000
DTSTAMP:20260421T165930
CREATED:20260101T200157Z
LAST-MODIFIED:20260101T200157Z
UID:2811-1768413600-1768420800@rosaleespizzeria.com
SUMMARY:Vudu Sunshine
DESCRIPTION:Wednesday Night Square Dance \nHome
URL:https://rosaleespizzeria.com/event/vudu-sunshine-2/
LOCATION:Rosalee’s Pizzeria\, 461 Main St\, Longmont \, CO\, 80501\, United States
END:VEVENT
BEGIN:VEVENT
DTSTART;TZID=UTC:20260121T180000
DTEND;TZID=UTC:20260121T200000
DTSTAMP:20260421T165930
CREATED:20260101T200544Z
LAST-MODIFIED:20260101T200544Z
UID:2813-1769018400-1769025600@rosaleespizzeria.com
SUMMARY:Tribonacci Trio
DESCRIPTION:Wednesday Night Square Dance \nhttps://tribonacciband.com/
URL:https://rosaleespizzeria.com/event/tribonacci-trio/
LOCATION:Rosalee’s Pizzeria\, 461 Main St\, Longmont \, CO\, 80501\, United States
END:VEVENT
BEGIN:VEVENT
DTSTART;TZID=UTC:20260121T180000
DTEND;TZID=UTC:20260121T200000
DTSTAMP:20260421T165930
CREATED:20260120T231309Z
LAST-MODIFIED:20260120T231309Z
UID:2823-1769018400-1769025600@rosaleespizzeria.com
SUMMARY:Tribonici Trio
DESCRIPTION:Wednesday Night Square Dance
URL:https://rosaleespizzeria.com/event/tribonici-trio/
LOCATION:Rosalee’s Pizzeria\, 461 Main St\, Longmont \, CO\, 80501\, United States
END:VEVENT
BEGIN:VEVENT
DTSTART;TZID=UTC:20260128T180000
DTEND;TZID=UTC:20260128T200000
DTSTAMP:20260421T165930
CREATED:20260101T200755Z
LAST-MODIFIED:20260101T200820Z
UID:2815-1769623200-1769630400@rosaleespizzeria.com
SUMMARY:Foggy  Mountain Spaceship Duo
DESCRIPTION:Wednesday Night Square Dance \nhttps://foggymountainspaceship.com/
URL:https://rosaleespizzeria.com/event/foggy-mountain-spaceship-2/
LOCATION:Rosalee’s Pizzeria\, 461 Main St\, Longmont \, CO\, 80501\, United States
END:VEVENT
END:VCALENDAR