BEGIN:VCALENDAR
VERSION:2.0
PRODID:-//Rosalee&#039;s Pizzeria - ECPv6.15.13//NONSGML v1.0//EN
CALSCALE:GREGORIAN
METHOD:PUBLISH
X-WR-CALNAME:Rosalee&#039;s Pizzeria
X-ORIGINAL-URL:https://rosaleespizzeria.com
X-WR-CALDESC:Events for Rosalee&#039;s Pizzeria
REFRESH-INTERVAL;VALUE=DURATION:PT1H
X-Robots-Tag:noindex
X-PUBLISHED-TTL:PT1H
BEGIN:VTIMEZONE
TZID:UTC
BEGIN:STANDARD
TZOFFSETFROM:+0000
TZOFFSETTO:+0000
TZNAME:UTC
DTSTART:20250101T000000
END:STANDARD
END:VTIMEZONE
BEGIN:VEVENT
DTSTART;TZID=UTC:20260304T180000
DTEND;TZID=UTC:20260304T200000
DTSTAMP:20260421T135053
CREATED:20260129T222931Z
LAST-MODIFIED:20260129T222931Z
UID:2836-1772647200-1772654400@rosaleespizzeria.com
SUMMARY:The Responders
DESCRIPTION:Wednesday Night Square Dance \nThe Responders Oldies Band | Longmont CO | Facebook
URL:https://rosaleespizzeria.com/event/the-responders-3/
END:VEVENT
BEGIN:VEVENT
DTSTART;TZID=UTC:20260311T180000
DTEND;TZID=UTC:20260311T200000
DTSTAMP:20260421T135053
CREATED:20260129T223206Z
LAST-MODIFIED:20260129T223206Z
UID:2838-1773252000-1773259200@rosaleespizzeria.com
SUMMARY:Skip & Gayn
DESCRIPTION:Wednesday Night Square Dance \nSkip & Gayn
URL:https://rosaleespizzeria.com/event/skip-gayn/
END:VEVENT
BEGIN:VEVENT
DTSTART;TZID=UTC:20260318T180000
DTEND;TZID=UTC:20260318T200000
DTSTAMP:20260421T135053
CREATED:20260129T223401Z
LAST-MODIFIED:20260129T223429Z
UID:2840-1773856800-1773864000@rosaleespizzeria.com
SUMMARY:Joe Teichman
DESCRIPTION:Wednesday Night Square Dance \nJoe Teichman
URL:https://rosaleespizzeria.com/event/joe-teichman/
END:VEVENT
BEGIN:VEVENT
DTSTART;TZID=UTC:20260325T180000
DTEND;TZID=UTC:20260325T200000
DTSTAMP:20260421T135053
CREATED:20260129T224014Z
LAST-MODIFIED:20260129T224014Z
UID:2842-1774461600-1774468800@rosaleespizzeria.com
SUMMARY:Kenny Lee Young
DESCRIPTION:Wednesday Night Square Dance \nInstagram
URL:https://rosaleespizzeria.com/event/kenny-lee-young/
END:VEVENT
END:VCALENDAR